BEGIN:VCALENDAR
VERSION:2.0
PRODID:-//Maria College - ECPv6.15.18//NONSGML v1.0//EN
CALSCALE:GREGORIAN
METHOD:PUBLISH
X-WR-CALNAME:Maria College
X-ORIGINAL-URL:https://mariacollege.edu
X-WR-CALDESC:Events for Maria College
REFRESH-INTERVAL;VALUE=DURATION:PT1H
X-Robots-Tag:noindex
X-PUBLISHED-TTL:PT1H
BEGIN:VTIMEZONE
TZID:UTC
BEGIN:STANDARD
TZOFFSETFROM:+0000
TZOFFSETTO:+0000
TZNAME:UTC
DTSTART:20160101T000000
END:STANDARD
END:VTIMEZONE
BEGIN:VEVENT
DTSTART;TZID=UTC:20171219T130000
DTEND;TZID=UTC:20171219T150000
DTSTAMP:20260425T075416
CREATED:20171211T053754Z
LAST-MODIFIED:20180613T182132Z
UID:6978-1513688400-1513695600@mariacollege.edu
SUMMARY:Employability Workshop Series
DESCRIPTION:Career Services presents an employability workshop series on the following topics: resume building\, College Central Network (online job board)\, Linkedin\, and interviewing. You will receive a confirmation email with a resume template that will be your TICKET for ENTRY when completed. \nTuesday\, December 19\, 1pm-3pm\nThursday\, January 4\, 4pm-6pm\nMonday\, January 8\, 1pm-3pm\nThursday\, January 18\, 4pm-6pm
URL:https://mariacollege.edu/event/employability-workshop-series
LOCATION:Mercy Hall\, Frances Warde Room
CATEGORIES:Career Services
END:VEVENT
END:VCALENDAR